BEGIN:VCALENDAR
VERSION:2.0
PRODID:-//Empowering HR professionals at every stage of their careers! - ECPv6.15.20//NONSGML v1.0//EN
CALSCALE:GREGORIAN
METHOD:PUBLISH
X-WR-CALNAME:Empowering HR professionals at every stage of their careers!
X-ORIGINAL-URL:https://nhrma.net
X-WR-CALDESC:Events for Empowering HR professionals at every stage of their careers!
REFRESH-INTERVAL;VALUE=DURATION:PT1H
X-Robots-Tag:noindex
X-PUBLISHED-TTL:PT1H
BEGIN:VTIMEZONE
TZID:America/Anchorage
BEGIN:DAYLIGHT
TZOFFSETFROM:-0900
TZOFFSETTO:-0800
TZNAME:AKDT
DTSTART:20250309T110000
END:DAYLIGHT
BEGIN:STANDARD
TZOFFSETFROM:-0800
TZOFFSETTO:-0900
TZNAME:AKST
DTSTART:20251102T100000
END:STANDARD
BEGIN:DAYLIGHT
TZOFFSETFROM:-0900
TZOFFSETTO:-0800
TZNAME:AKDT
DTSTART:20260308T110000
END:DAYLIGHT
BEGIN:STANDARD
TZOFFSETFROM:-0800
TZOFFSETTO:-0900
TZNAME:AKST
DTSTART:20261101T100000
END:STANDARD
BEGIN:DAYLIGHT
TZOFFSETFROM:-0900
TZOFFSETTO:-0800
TZNAME:AKDT
DTSTART:20270314T110000
END:DAYLIGHT
BEGIN:STANDARD
TZOFFSETFROM:-0800
TZOFFSETTO:-0900
TZNAME:AKST
DTSTART:20271107T100000
END:STANDARD
END:VTIMEZONE
BEGIN:VEVENT
DTSTART;TZID=America/Anchorage:20260302T080000
DTEND;TZID=America/Anchorage:20260302T170000
DTSTAMP:20260420T042824
CREATED:20260109T034833Z
LAST-MODIFIED:20260109T034903Z
UID:229-1772438400-1772470800@nhrma.net
SUMMARY:Birthday
DESCRIPTION:Birthday Event!
URL:https://nhrma.net/event/birthday/
END:VEVENT
END:VCALENDAR